BEGIN:VCALENDAR
VERSION:2.0
PRODID:-//wp-events-plugin.com//7.2.3.1//EN
BEGIN:VEVENT
UID:8@reinstetter-harmonika-spielring.de
DTSTART;TZID=Europe/Berlin:20230907T193000
DTEND;TZID=Europe/Berlin:20230907T213000
DTSTAMP:20230322T090851Z
URL:https://www.reinstetter-harmonika-spielring.de/wp/events/erste-probe-n
 ach-den-sommerferien/
SUMMARY:Erste Probe nach den Sommerferien
DESCRIPTION:
LOCATION:Schule\, Reinstetten\, Eichener Straße 18\, Ochsenhausen\, 88416\
 , Deutschland
X-APPLE-STRUCTURED-LOCATION;VALUE=URI;X-ADDRESS=Eichener Straße 18\, Ochse
 nhausen\, 88416\, Deutschland;X-APPLE-RADIUS=100;X-TITLE=Schule\, Reinstet
 ten:geo:0,0
END:VEVENT
BEGIN:VTIMEZONE
TZID:Europe/Berlin
X-LIC-LOCATION:Europe/Berlin
BEGIN:DAYLIGHT
DTSTART:20230326T030000
TZOFFSETFROM:+0100
TZOFFSETTO:+0200
TZNAME:CEST
END:DAYLIGHT
END:VTIMEZONE
END:VCALENDAR